BEGIN:VCALENDAR
VERSION:2.0
PRODID:-//Aginian Armenian School Melbourne - ECPv5.0.2//NONSGML v1.0//EN
CALSCALE:GREGORIAN
METHOD:PUBLISH
X-WR-CALNAME:Aginian Armenian School Melbourne
X-ORIGINAL-URL:https://aginiantbrotz.org.au
X-WR-CALDESC:Events for Aginian Armenian School Melbourne
BEGIN:VTIMEZONE
TZID:Australia/Melbourne
BEGIN:STANDARD
TZOFFSETFROM:+1100
TZOFFSETTO:+1000
TZNAME:AEST
DTSTART:20180331T160000
END:STANDARD
BEGIN:DAYLIGHT
TZOFFSETFROM:+1000
TZOFFSETTO:+1100
TZNAME:AEDT
DTSTART:20181006T160000
END:DAYLIGHT
END:VTIMEZONE
BEGIN:VEVENT
DTSTART;TZID=Australia/Melbourne:20180630T140000
DTEND;TZID=Australia/Melbourne:20180630T173000
DTSTAMP:20200302T054935
CREATED:20180201T105335Z
LAST-MODIFIED:20180201T105335Z
UID:591-1530367200-1530379800@aginiantbrotz.org.au
SUMMARY:Half yearly reports\, General Assembly
DESCRIPTION:
URL:https://aginiantbrotz.org.au/event/half-yearly-reports-general-assembly/
LOCATION:Aginian School\, Norfolk Road\, Surrey Hills\, VIC\, 3127\, Australia
CATEGORIES:Aginian school event
END:VEVENT
END:VCALENDAR