BEGIN:VCALENDAR
VERSION:2.0
PRODID:-//Aginian Armenian School Melbourne - ECPv5.0.2//NONSGML v1.0//EN
CALSCALE:GREGORIAN
METHOD:PUBLISH
X-WR-CALNAME:Aginian Armenian School Melbourne
X-ORIGINAL-URL:https://aginiantbrotz.org.au
X-WR-CALDESC:Events for Aginian Armenian School Melbourne
BEGIN:VTIMEZONE
TZID:Australia/Melbourne
BEGIN:STANDARD
TZOFFSETFROM:+1100
TZOFFSETTO:+1000
TZNAME:AEST
DTSTART:20190406T160000
END:STANDARD
BEGIN:DAYLIGHT
TZOFFSETFROM:+1000
TZOFFSETTO:+1100
TZNAME:AEDT
DTSTART:20191005T160000
END:DAYLIGHT
END:VTIMEZONE
BEGIN:VEVENT
DTSTART;TZID=Australia/Melbourne:20191013T120000
DTEND;TZID=Australia/Melbourne:20191013T150000
DTSTAMP:20200302T053616
CREATED:20180201T110644Z
LAST-MODIFIED:20190804T130109Z
UID:610-1570968000-1570978800@aginiantbrotz.org.au
SUMMARY:Tarkmanchats Church Communion & concert
DESCRIPTION:
URL:https://aginiantbrotz.org.au/event/tarkmanchats-church-communion-concert/
LOCATION:Aginian School\, Norfolk Road\, Surrey Hills\, VIC\, 3127\, Australia
CATEGORIES:Aginian school event,Tarkmanchats
END:VEVENT
END:VCALENDAR