BEGIN:VCALENDAR
VERSION:2.0
PRODID:-//Aginian Armenian School Melbourne - ECPv5.0.2//NONSGML v1.0//EN
CALSCALE:GREGORIAN
METHOD:PUBLISH
X-WR-CALNAME:Aginian Armenian School Melbourne
X-ORIGINAL-URL:https://aginiantbrotz.org.au
X-WR-CALDESC:Events for Aginian Armenian School Melbourne
BEGIN:VTIMEZONE
TZID:Australia/Melbourne
BEGIN:STANDARD
TZOFFSETFROM:+1100
TZOFFSETTO:+1000
TZNAME:AEST
DTSTART:20180331T160000
END:STANDARD
BEGIN:DAYLIGHT
TZOFFSETFROM:+1000
TZOFFSETTO:+1100
TZNAME:AEDT
DTSTART:20181006T160000
END:DAYLIGHT
END:VTIMEZONE
BEGIN:VEVENT
DTSTART;TZID=Australia/Melbourne:20180721T140000
DTEND;TZID=Australia/Melbourne:20180721T173000
DTSTAMP:20200302T055038
CREATED:20180201T105603Z
LAST-MODIFIED:20180201T105603Z
UID:597-1532181600-1532194200@aginiantbrotz.org.au
SUMMARY:Term 3 starts\, Parent & Teacher Interviews
DESCRIPTION:
URL:https://aginiantbrotz.org.au/event/term-3-starts-parent-teacher-interviews/
LOCATION:Aginian School\, Norfolk Road\, Surrey Hills\, VIC\, 3127\, Australia
CATEGORIES:Aginian school event,Term dates
END:VEVENT
END:VCALENDAR